BEGIN:VCALENDAR
VERSION:2.0
PRODID:-//Tukios.com/
BEGIN:VEVENT
UID:eaa287a8-271e-4a3f-bdfe-7c732f54532d@www.mtvernonchapel.com
DTSTAMP:20260425T000229Z
DTSTART:20260428T180000Z
DTEND:20260428T190000Z
SUMMARY:Celebration of Life
DESCRIPTION:
URL:https://www.mtvernonchapel.com/obituaries/jackson-farrar
LOCATION:Mount Vernon Chapel 1716 McCullough Blvd.  Tupelo MS 38801
GEO:34.2845772;-88.7368454
END:VEVENT
END:VCALENDAR