BEGIN:VCALENDAR
VERSION:2.0
PRODID:-//Tukios.com/
BEGIN:VEVENT
UID:4e2456f7-25a8-4975-b317-bce623d76c23@www.mtvernonchapel.com
DTSTAMP:20260425T000643Z
DTSTART:20260427T220000Z
DTEND:20260428T010000Z
SUMMARY:Visitation
DESCRIPTION:
URL:https://www.mtvernonchapel.com/obituaries/jackson-farrar
LOCATION:Mount Vernon Chapel 1716 McCullough Blvd.  Tupelo MS 38801
GEO:34.2845772;-88.7368454
END:VEVENT
END:VCALENDAR