BEGIN:VCALENDAR
VERSION:2.0
PRODID:-//Tukios.com/
BEGIN:VEVENT
UID:4d6d5cac-e6b6-4822-9c0d-f3da3ab7b0a0@www.mtvernonchapel.com
DTSTAMP:20260425T000627Z
DTSTART:20260428T170000Z
DTEND:20260428T180000Z
SUMMARY:Visitation
DESCRIPTION:
URL:https://www.mtvernonchapel.com/obituaries/jackson-farrar
LOCATION:Mount Vernon Chapel 1716 McCullough Blvd.  Tupelo MS 38801
GEO:34.2845772;-88.7368454
END:VEVENT
END:VCALENDAR